BEGIN:VCALENDAR
VERSION:2.0
PRODID:-//Innisfail Historical Village - ECPv6.15.20//NONSGML v1.0//EN
CALSCALE:GREGORIAN
METHOD:PUBLISH
X-WR-CALNAME:Innisfail Historical Village
X-ORIGINAL-URL:https://innisfailhistoricalvillage.ca
X-WR-CALDESC:Events for Innisfail Historical Village
REFRESH-INTERVAL;VALUE=DURATION:PT1H
X-Robots-Tag:noindex
X-PUBLISHED-TTL:PT1H
BEGIN:VTIMEZONE
TZID:UTC
BEGIN:STANDARD
TZOFFSETFROM:+0000
TZOFFSETTO:+0000
TZNAME:UTC
DTSTART:20230101T000000
END:STANDARD
END:VTIMEZONE
BEGIN:VEVENT
DTSTART;TZID=UTC:20240514T100000
DTEND;TZID=UTC:20240514T170000
DTSTAMP:20260421T024327
CREATED:20240514T162028Z
LAST-MODIFIED:20240514T162028Z
UID:329-1715680800-1715706000@innisfailhistoricalvillage.ca
SUMMARY:Opening Day!
DESCRIPTION:Come by for a visit! We are officially open for the season!
URL:https://innisfailhistoricalvillage.ca/event/opening-day/
END:VEVENT
END:VCALENDAR